Workbook

Sheet Booking
A1: Monday | D1: Tuesday | G1: Wednesday | J1: Thursday
A2: Room: | D2: Room: | G2: Room: | J2: Room:
A3: Assessor: | D3: Assessor: | G3: Assessor: | J3: Assessor:
A4: Time | B4: Student Name (choose from dropdown) | D4: Time | E4: Student Name (choose from dropdown) | G4: Time | H4: Student Name (choose from dropdown) | J4: Time | K4: Student Name (choose from dropdown)
A6: 0.41666667 | D6: 0.41666667 | G6: 0.41666667 | J6: 0.41666667
A7: 0.4375 | D7: 0.4375 | G7: 0.4375 | J7: 0.4375
A8: 0.45833333 | D8: 0.45833333 | G8: 0.45833333 | J8: 0.45833333
A9: 0.47916667 | D9: 0.47916667 | G9: 0.47916667 | J9: 0.47916667
A10: 0.041666667 | D10: 0.041666667 | G10: 0.041666667 | J10: 0.041666667
A11: 0.0625 | D11: 0.0625 | G11: 0.0625 | J11: 0.0625
A12: 0.083333333 | D12: 0.083333333 | G12: 0.083333333 | J12: 0.083333333
A13: 0.10416667 | D13: 0.10416667 | G13: 0.10416667 | J13: 0.10416667

Sheet Cohort List
B2: Student Name | C2: Student ID | D2: Student Email | G2: Paste your student list into column B. To make a column of student full names from the Allocate download, use the formula: CONCATENATE(d8,",",c8)
B3: student 1 | C3: 1 | D3: 1@uni.sydney.edu.au | G3: If you add more time slots, drag down the blank cells in Student Name to extend the dropdown capability.
B4: student 2 | C4: 2 | D4: 2@uni.sydney.edu.au

Sheet Unselected
B2: Student Name | C2: Student ID | D2: Student Email | E2: Has this student selected a timeslot or not
B3: ='Cohort List'!B3 -> student 1 | C3: ='Cohort List'!C3 -> 1 | D3: ='Cohort List'!D3 -> 1@uni.sydney.edu.au | E3: =IF(COUNTIF(Booking!B7:K13,Unselected!B3)>0,"Selected","Not Selected") -> Not Selected
B4: ='Cohort List'!B4 -> student 2 | C4: ='Cohort List'!C4 -> 2 | D4: ='Cohort List'!D4 -> 2@uni.sydney.edu.au | E4: =IF(COUNTIF(Booking!B8:K14,Unselected!B4)>0,"Selected","Not Selected") -> Not Selected
B5: ='Cohort List'!B5 -> 0 | C5: ='Cohort List'!C5 -> 0 | D5: ='Cohort List'!D5 -> 0 | E5: =IF(COUNTIF(Booking!B9:K15,Unselected!B5)>0,"Selected","Not Selected") -> Not Selected
B6: ='Cohort List'!B6 -> 0 | C6: ='Cohort List'!C6 -> 0 | D6: ='Cohort List'!D6 -> 0 | E6: =IF(COUNTIF(Booking!B10:K16,Unselected!B6)>0,"Selected","Not Selected") -> Not Selected
B7: ='Cohort List'!B7 -> 0 | C7: ='Cohort List'!C7 -> 0 | D7: ='Cohort List'!D7 -> 0 | E7: =IF(COUNTIF(Booking!B11:K17,Unselected!B7)>0,"Selected","Not Selected") -> Not Selected
B8: ='Cohort List'!B8 -> 0 | C8: ='Cohort List'!C8 -> 0 | D8: ='Cohort List'!D8 -> 0 | E8: =IF(COUNTIF(Booking!B12:K18,Unselected!B8)>0,"Selected","Not Selected") -> Not Selected
B9: ='Cohort List'!B9 -> 0 | C9: ='Cohort List'!C9 -> 0 | D9: ='Cohort List'!D9 -> 0 | E9: =IF(COUNTIF(Booking!B13:K19,Unselected!B9)>0,"Selected","Not Selected") -> Not Selected
B10: ='Cohort List'!B10 -> 0 | C10: ='Cohort List'!C10 -> 0 | D10: ='Cohort List'!D10 -> 0 | E10: =IF(COUNTIF(Booking!B14:K20,Unselected!B10)>0,"Selected","Not Selected") -> Not Selected
B11: ='Cohort List'!B11 -> 0 | C11: ='Cohort List'!C11 -> 0 | D11: ='Cohort List'!D11 -> 0 | E11: =IF(COUNTIF(Booking!B15:K21,Unselected!B11)>0,"Selected","Not Selected") -> Not Selected
B12: ='Cohort List'!B12 -> 0 | C12: ='Cohort List'!C12 -> 0 | D12: ='Cohort List'!D12 -> 0 | E12: =IF(COUNTIF(Booking!B16:K22,Unselected!B12)>0,"Selected","Not Selected") -> Not Selected
B13: ='Cohort List'!B13 -> 0 | C13: ='Cohort List'!C13 -> 0 | D13: ='Cohort List'!D13 -> 0 | E13: =IF(COUNTIF(Booking!B17:K23,Unselected!B13)>0,"Selected","Not Selected") -> Not Selected
B14: ='Cohort List'!B14 -> 0 | C14: ='Cohort List'!C14 -> 0 | D14: ='Cohort List'!D14 -> 0 | E14: =IF(COUNTIF(Booking!B18:K24,Unselected!B14)>0,"Selected","Not Selected") -> Not Selected
... B557: ='Cohort List'!B557 -> 0 | C557: ='Cohort List'!C557 -> 0 | D557: ='Cohort List'!D557 -> 0 | E557: =IF(COUNTIF(Booking!B561:K567,Unselected!B557)>0,"Selected","Not Selected") -> Not Selected
